BEGIN:VCALENDAR
VERSION:2.0
PRODID:-//eventon.com NONSGML v1.0//EN
BEGIN:VEVENT
UID:69e616dd8e4b8
DTSTAMP:20260420T140653
DTSTART:20260512T220000Z
DTEND:20260514T215900Z
LOCATION:Poysdorf 
SUMMARY:[:de]Frühlingskeller Bioweingut Oppenauer[:en]Frühlingskeller Bio-Weingut Oppenauer[:cs]Frühlingskeller Bio-Weingut Oppenauer[:]
DESCRIPTION: [:de]täglich ab 16 Uhr[:en]from 4 pm[:cs]denne od 16 hod.[:]
END:VEVENT
END:VCALENDAR