BEGIN:VCALENDAR
VERSION:2.0
PRODID:-//eventon.com NONSGML v1.0//EN
BEGIN:VEVENT
UID:69e567ab4ec66
DTSTAMP:20260420T013923
DTSTART:20260416T220000Z
DTEND:20260419T215900Z
LOCATION:Poysdorf 
SUMMARY:Weinfrühling im Weingut Rainer Schuckert
DESCRIPTION: [:de]täglich ab 16 Uhr[:]
END:VEVENT
END:VCALENDAR