BEGIN:VCALENDAR
VERSION:2.0
PRODID:-//eventon.com NONSGML v1.0//EN
BEGIN:VEVENT
UID:69e567adec7fa
DTSTAMP:20260420T013925
DTSTART:20260503T220000Z
DTEND:20260506T215900Z
LOCATION:Wilhelmsdorf 
SUMMARY:Weinfrühling im Weingut Strobl Lorenz
DESCRIPTION: [:de]täglich ab 16 Uhr[:]
END:VEVENT
END:VCALENDAR