BEGIN:VCALENDAR
VERSION:2.0
PRODID:-//eventon.com NONSGML v1.0//EN
BEGIN:VEVENT
UID:69e5679d8814c
DTSTAMP:20260420T013909
DTSTART:20260422T220000Z
DTEND:20260426T215900Z
LOCATION:Poysdorf 
SUMMARY:Weinfrühling im Bio-Weingut Valentin Oppenauer
DESCRIPTION: [:de]täglich ab 16 Uhr[:cs]denně od 16 hod.[:]
END:VEVENT
END:VCALENDAR