BEGIN:VCALENDAR
VERSION:2.0
PRODID:-//eventon.com NONSGML v1.0//EN
BEGIN:VEVENT
UID:69e5679cebe67
DTSTAMP:20260420T013908
DTSTART:20260318T220000Z
DTEND:20260322T215900Z
LOCATION:Kleinhadersdorf 
SUMMARY:[:de]Weinfrühling Top-Heuriger & Weingut Rieder[:en]Top-Heuriger & Weingut Rieder[:cs]Top-Heuriger & Weingut Rieder[:]
DESCRIPTION: [:de]täglich ab 16.00 Uhr[:]
END:VEVENT
END:VCALENDAR