BEGIN:VCALENDAR
VERSION:2.0
PRODID:-//eventon.com NONSGML v1.0//EN
BEGIN:VEVENT
UID:69e567aaac2aa
DTSTAMP:20260420T013922
DTSTART:20260923T220000Z
DTEND:20260927T215900Z
LOCATION:Kleinhadersdorf 
SUMMARY:[:de]Weinherbst Top-Heuriger & Weingut Rieder[:en]Top-Heuriger & Weingut Rieder[:cs]Top-Heuriger & Weingut Rieder[:]
DESCRIPTION: [:de]täglich ab 16.00 Uhr[:]
END:VEVENT
END:VCALENDAR