BEGIN:VCALENDAR
VERSION:2.0
PRODID:-//eventon.com NONSGML v1.0//EN
BEGIN:VEVENT
UID:69e616e45f721
DTSTAMP:20260420T140700
DTSTART:20260506T220000Z
DTEND:20260510T215900Z
LOCATION:Poysdorf 
SUMMARY:Weinfrühling im Weingut Lukas Heger
DESCRIPTION: [:de]täglich ab 16 Uhr[:]
END:VEVENT
END:VCALENDAR