BEGIN:VCALENDAR
VERSION:2.0
PRODID:-//eventon.com NONSGML v1.0//EN
BEGIN:VEVENT
UID:69e616ec8263f
DTSTAMP:20260420T140708
DTSTART:20260510T220000Z
DTEND:20260517T215900Z
LOCATION:Kleinhadersdorf 
SUMMARY:Top-Heuriger & Weingut Rieder
DESCRIPTION: [:de]ab 16.00 Uhr[:]
END:VEVENT
END:VCALENDAR