BEGIN:VCALENDAR
VERSION:2.0
PRODID:-//eventon.com NONSGML v1.0//EN
BEGIN:VEVENT
UID:69e64d06d41f3
DTSTAMP:20260420T175758
DTSTART:20260704T120000Z
DTEND:20260704T215000Z
LOCATION:Poysdorf 
SUMMARY:[:de]Weingut-Schauen im Weingut Heger-Schuckert[:en]Weingut-Schauen im Weingut Heger-Schuckert[:cs]Weingut-Schauen im Weingut Heger-Schuckert [:]
DESCRIPTION: [:de]Voranmeldung eforderlich![:]
END:VEVENT
END:VCALENDAR