BEGIN:VCALENDAR
VERSION:2.0
PRODID:-//eventon.com NONSGML v1.0//EN
BEGIN:VEVENT
UID:69e77041a3ae9
DTSTAMP:20260421T144033
DTSTART:20260708T220000Z
DTEND:20260709T215900Z
LOCATION:
SUMMARY:Sunset Tasting
DESCRIPTION: Poysdorfer Winzer marschieren mit Ihnen zu ihren Lieblingsplätzen\,  absoluten Geheimtipps mit toller Aussicht. Teils bereits auf dem Weg dorthin und dann beim Sonnenuntergang werden Sie mit einer Weinverkostung verwöhnt. Die Zutaten für Ihren perfekten Abend sind rasch erklärt: . ein gutes Glas Wein (oder besser gesagt zwei\,  drei\,  vier\,  fünf[..]
END:VEVENT
END:VCALENDAR