BEGIN:VCALENDAR
VERSION:2.0
PRODID:-//eventon.com NONSGML v1.0//EN
BEGIN:VEVENT
UID:69e5aca61282c
DTSTAMP:20260420T063342
DTSTART:20260705T220000Z
DTEND:20260712T215900Z
LOCATION:Poysdorf 
SUMMARY:[:de]Genießerhof Haimer - Genuss-Heurigen[:en]Genießerhof Haimer[:cs]Genießerhof Haimer[:]
DESCRIPTION: [:de]Tischreservierung erbeten! Tel: +43 2552 29465 office@haimer.at[:]
END:VEVENT
END:VCALENDAR