BEGIN:VCALENDAR
VERSION:2.0
PRODID:-//eventon.com NONSGML v1.0//EN
BEGIN:VEVENT
UID:69e7a07fb9d17
DTSTAMP:20260421T180623
DTSTART:20260430T220000Z
DTEND:20260505T215900Z
LOCATION:Poysdorf 
SUMMARY:[:de]Walek[:en]Walek Gerhard u. Helene[:cs]Walek Gerhard u. Helene[:]
DESCRIPTION: [:de]Walek[:en]Walek Gerhard u. Helene[:cs]Walek Gerhard u. Helene[:]
END:VEVENT
END:VCALENDAR