BEGIN:VCALENDAR
VERSION:2.0
PRODID:-//eventon.com NONSGML v1.0//EN
BEGIN:VEVENT
UID:69e616e633a40
DTSTAMP:20260420T140702
DTSTART:20261014T220000Z
DTEND:20261018T215900Z
LOCATION:Poysdorf 
SUMMARY:[:de]Weinherbst im Bio-Weingut Valentin Oppenauer[:en]Bio-Weingut Oppenauer[:cs]Bio-Weingut Oppenauer[:]
DESCRIPTION: [:de]täglich ab 16 Uhr[:]
END:VEVENT
END:VCALENDAR