BEGIN:VCALENDAR
VERSION:2.0
PRODID:-//eventon.com NONSGML v1.0//EN
BEGIN:VEVENT
UID:69e64d0804f20
DTSTAMP:20260420T175800
DTSTART:20260531T220000Z
DTEND:20260607T215900Z
LOCATION:Poysdorf 
SUMMARY:[:de]Bio-Weingut Valentin Oppenauer[:en]Bio-Weingut Oppenauer[:cs]Bio-Weingut Oppenauer[:]
DESCRIPTION: [:de]täglich ab 16 Uhr[:]
END:VEVENT
END:VCALENDAR