BEGIN:VCALENDAR
VERSION:2.0
PRODID:-//eventon.com NONSGML v1.0//EN
BEGIN:VEVENT
UID:69e5aca581aef
DTSTAMP:20260420T063341
DTSTART:20260823T220000Z
DTEND:20260830T215900Z
LOCATION:Poysdorf 
SUMMARY:Weingut Kalser
DESCRIPTION: [:de]täglich ab 16 Uhr[:]
END:VEVENT
END:VCALENDAR