BEGIN:VCALENDAR
VERSION:2.0
PRODID:-//eventon.com NONSGML v1.0//EN
BEGIN:VEVENT
UID:69e616e0c1e8a
DTSTAMP:20260420T140656
DTSTART:20260719T220000Z
DTEND:20260726T215900Z
LOCATION:Poysdorf 
SUMMARY:[:de]Veltlinerhof - Weingut Rieder[:en]Weingut Wolfgang Rieder[:cs]Weingut Wolfgang Rieder[:]
DESCRIPTION: [:de]täglich ab 16 Uhr[:]
END:VEVENT
END:VCALENDAR