BEGIN:VCALENDAR
VERSION:2.0
PRODID:-//eventon.com NONSGML v1.0//EN
BEGIN:VEVENT
UID:69e64d03ccd8d
DTSTAMP:20260420T175755
DTSTART:20260712T220000Z
DTEND:20260719T215900Z
LOCATION:Poysdorf 
SUMMARY:Hauser Werner u. Waltraud
DESCRIPTION: [:de]täglich ab 16 Uhr[:]
END:VEVENT
END:VCALENDAR