BEGIN:VCALENDAR
VERSION:2.0
PRODID:-//eventon.com NONSGML v1.0//EN
BEGIN:VEVENT
UID:69e616e332694
DTSTAMP:20260420T140659
DTSTART:20261022T220000Z
DTEND:20261026T215900Z
LOCATION:Poysdorf 
SUMMARY:Weinherbst im Weingut Ebinger
DESCRIPTION: [:de]täglich ab 16 Uhr[:]
END:VEVENT
END:VCALENDAR