BEGIN:VCALENDAR
VERSION:2.0
PRODID:-//eventon.com NONSGML v1.0//EN
BEGIN:VEVENT
UID:69e567a059331
DTSTAMP:20260420T013912
DTSTART:20260625T220000Z
DTEND:20260628T215900Z
LOCATION:Poysdorf 
SUMMARY:Weintage im Weingut Spatzierer
DESCRIPTION: [:cs]täglich ab 17 Uhr[:]
END:VEVENT
END:VCALENDAR