BEGIN:VCALENDAR
VERSION:2.0
PRODID:-//eventon.com NONSGML v1.0//EN
BEGIN:VEVENT
UID:69e567a81548f
DTSTAMP:20260420T013920
DTSTART:20260906T220000Z
DTEND:20260909T215900Z
LOCATION:Wilhelmsdorf 
SUMMARY:Weinherbst im Weingut Strobl Lorenz
DESCRIPTION: [:de]täglich ab 16 Uhr[:]
END:VEVENT
END:VCALENDAR