BEGIN:VCALENDAR
VERSION:2.0
PRODID:-//eventon.com NONSGML v1.0//EN
BEGIN:VEVENT
UID:69e64d0ac647b
DTSTAMP:20260420T175802
DTSTART:20260802T220000Z
DTEND:20260809T215900Z
LOCATION:Wilhelmsdorf 
SUMMARY:Weingut Strobl Lorenz
DESCRIPTION: [:de]täglich ab 16 Uhr[:cs]denne od 16 hod.[:]
END:VEVENT
END:VCALENDAR