BEGIN:VCALENDAR
VERSION:2.0
PRODID:-//eventon.com NONSGML v1.0//EN
BEGIN:VEVENT
UID:69e616e299abd
DTSTAMP:20260420T140658
DTSTART:20260628T220000Z
DTEND:20260705T215900Z
LOCATION:Poysdorf 
SUMMARY:[:de]Bioweingut Oppenauer[:en]Bio-Weingut Oppenauer[:cs]Bio-Weingut Oppenauer[:]
DESCRIPTION: [:de]täglich ab 16.00 Uhr[:en]from 4 pm[:cs]od 16.00 hod.[:]
END:VEVENT
END:VCALENDAR