BEGIN:VCALENDAR
VERSION:2.0
PRODID:-//eventon.com NONSGML v1.0//EN
BEGIN:VEVENT
UID:69e64d0590c74
DTSTAMP:20260420T175757
DTSTART:20261001T220000Z
DTEND:20261004T215900Z
LOCATION:Poysdorf 
SUMMARY:Weinherbst im Weingut Neustifter
DESCRIPTION: [:de]täglich ab 16 Uhr[:]
END:VEVENT
END:VCALENDAR