BEGIN:VCALENDAR
VERSION:2.0
PRODID:-//eventon.com NONSGML v1.0//EN
BEGIN:VEVENT
UID:69e616e3bf5b4
DTSTAMP:20260420T140659
DTSTART:20260607T220000Z
DTEND:20260614T215900Z
LOCATION:Wilhelmsdorf 
SUMMARY:Weingut Gmeinböck
DESCRIPTION: [:de]täglich ab 16 Uhr[:]
END:VEVENT
END:VCALENDAR