BEGIN:VCALENDAR
VERSION:2.0
PRODID:-//eventon.com NONSGML v1.0//EN
BEGIN:VEVENT
UID:69e5aca913468
DTSTAMP:20260420T063345
DTSTART:20260326T220000Z
DTEND:20260329T215900Z
LOCATION:Poysdorf 
SUMMARY:Weinfrühling im Weingut Ebinger
DESCRIPTION: [:de]täglich ab 16 Uhr[:]
END:VEVENT
END:VCALENDAR