BEGIN:VCALENDAR
VERSION:2.0
PRODID:-//eventon.com NONSGML v1.0//EN
BEGIN:VEVENT
UID:69e64d0ab28d4
DTSTAMP:20260420T175802
DTSTART:20260816T220000Z
DTEND:20260823T215900Z
LOCATION:Poysdorf 
SUMMARY:[:de]Weingut Ebinger[:en]Weingut Familie Ebinger[:cs]Weingut Familie Ebinger[:]
DESCRIPTION: [:de]täglich ab 16 Uhr[:]
END:VEVENT
END:VCALENDAR