BEGIN:VCALENDAR
VERSION:2.0
PRODID:-//eventon.com NONSGML v1.0//EN
BEGIN:VEVENT
UID:69e616e57da1c
DTSTAMP:20260420T140701
DTSTART:20261007T220000Z
DTEND:20261011T215900Z
LOCATION:Poysdorf 
SUMMARY:Weinherbst im Weingut Latschka
DESCRIPTION: [:de]täglich ab 16 Uhr[:]
END:VEVENT
END:VCALENDAR