BEGIN:VCALENDAR
VERSION:2.0
PRODID:-//eventon.com NONSGML v1.0//EN
BEGIN:VEVENT
UID:69e64cfb57ab7
DTSTAMP:20260420T175747
DTSTART:20261028T220000Z
DTEND:20261101T215900Z
LOCATION:Poysdorf 
SUMMARY:[:de]Weinherbst im Bioweingut Oppenauer[:en]Weinherbst im Bio-Weingut Oppenauer[:cs]Weinherbst im Bio-Weingut Oppenauer[:]
DESCRIPTION: [:de]täglich ab 16 Uhr[:]
END:VEVENT
END:VCALENDAR