BEGIN:VCALENDAR
VERSION:2.0
PRODID:-//eventon.com NONSGML v1.0//EN
BEGIN:VEVENT
UID:69e567a371fd5
DTSTAMP:20260420T013915
DTSTART:20260621T220000Z
DTEND:20260628T215900Z
LOCATION:Poysdorf 
SUMMARY:Weingut Hirtl
DESCRIPTION: [:de]täglich ab 16 Uhr[:]
END:VEVENT
END:VCALENDAR