BEGIN:VCALENDAR
VERSION:2.0
PRODID:-//eventon.com NONSGML v1.0//EN
BEGIN:VEVENT
UID:69e616daa47bf
DTSTAMP:20260420T140650
DTSTART:20260614T220000Z
DTEND:20260621T215900Z
LOCATION:Poysdorf 
SUMMARY:Weingut Hugl-Wimmer
DESCRIPTION: täglich ab 16.00 Uhr
END:VEVENT
END:VCALENDAR