BEGIN:VCALENDAR
VERSION:2.0
PRODID:-//eventon.com NONSGML v1.0//EN
BEGIN:VEVENT
UID:69e567a619c32
DTSTAMP:20260420T013918
DTSTART:20260503T220000Z
DTEND:20260510T215900Z
LOCATION:Ketzelsdorf 
SUMMARY:Heuriger JHM Preyer
DESCRIPTION: [:de]täglich ab 16 Uhr[:cs]denne od 16 hod.[:]
END:VEVENT
END:VCALENDAR