BEGIN:VCALENDAR
VERSION:2.0
PRODID:-//eventon.com NONSGML v1.0//EN
BEGIN:VEVENT
UID:69e5aca4f41ba
DTSTAMP:20260420T063340
DTSTART:20260903T220000Z
DTEND:20260906T215900Z
LOCATION:Ketzelsdorf 
SUMMARY:[:de]Weinherbst im Heuriger JHM Preyer[:en]Heuriger JHM Preyer[:cs]Heuriger JHM Preyer[:]
DESCRIPTION: [:de]Weinherbst im Heuriger JHM Preyer[:en]Heuriger JHM Preyer[:cs]Heuriger JHM Preyer[:]
END:VEVENT
END:VCALENDAR