BEGIN:VCALENDAR
VERSION:2.0
PRODID:-//eventon.com NONSGML v1.0//EN
BEGIN:VEVENT
UID:69e616e167aac
DTSTAMP:20260420T140657
DTSTART:20260802T220000Z
DTEND:20260809T215900Z
LOCATION:Poysdorf 
SUMMARY:Weingut Neustifter
DESCRIPTION: [:de]täglich ab 16 Uhr[:]
END:VEVENT
END:VCALENDAR