BEGIN:VCALENDAR
VERSION:2.0
PRODID:-//eventon.com NONSGML v1.0//EN
BEGIN:VEVENT
UID:69e567a57b05a
DTSTAMP:20260420T013917
DTSTART:20260429T220000Z
DTEND:20260503T215900Z
LOCATION:Gut Kellerstöckl 2170 Ketzelsdorf\,  Winterzeile 15
SUMMARY:Weinfrühling im Gut Kellerstöckl
DESCRIPTION: [:de]täglich ab 16 Uhr[:cs]denne od 16 hod.[:]
END:VEVENT
END:VCALENDAR