BEGIN:VCALENDAR
VERSION:2.0
PRODID:-//eventon.com NONSGML v1.0//EN
BEGIN:VEVENT
UID:69ebcdb932a08
DTSTAMP:20260424T220825
DTSTART:20171202T130000Z
DTEND:20171202T215000Z
LOCATION:Gstetten Poysdorf 
SUMMARY:Advent
DESCRIPTION: Die Poysdorfer Adventmeile in der Kellergstetten
END:VEVENT
END:VCALENDAR