BEGIN:VCALENDAR
VERSION:2.0
PRODID:-//eventon.com NONSGML v1.0//EN
BEGIN:VEVENT
UID:69e64cf8194a2
DTSTAMP:20260420T175744
DTSTART:20260726T220000Z
DTEND:20260802T215900Z
LOCATION:Poysdorf 
SUMMARY:Heuriger JHM Preyer
DESCRIPTION: [:de]täglich ab 16 Uhr[:]
END:VEVENT
END:VCALENDAR